BEGIN:VCALENDAR
VERSION:2.0
PRODID:-//ChamberMaster//Event Calendar 2.0//EN
METHOD:PUBLISH
X-PUBLISHED-TTL:P3D
REFRESH-INTERVAL:P3D
CALSCALE:GREGORIAN
BEGIN:VEVENT
DTSTART:20220907T051500Z
DTEND:20220907T061500Z
X-MICROSOFT-CDO-ALLDAYEVENT:FALSE
SUMMARY:Roundtable Dialogue with Kathi Vidal
DESCRIPTION:Closed Door Roundtable Dialogue Session with Kathi Vidal\, Under Secretary of Commerce for Intellectual Property and Director of the United States Patent and Trademark Office (USPTO)
X-ALT-DESC;FMTTYPE=text/html:Closed Door Roundtable Dialogue Session with Kathi Vidal\, Under Secretary of Commerce for Intellectual Property and Director of the United States Patent and Trademark Office (USPTO)
LOCATION:USABC Singapore Conference Room mTower\, #26-06 460 Alexandra Road
UID:e.9078.8854
SEQUENCE:3
DTSTAMP:20260421T222417Z
URL:http://memberzone.usasean.org/events/details/roundtable-dialogue-with-kathi-vidal-8854
END:VEVENT

END:VCALENDAR
