BEGIN:VCALENDAR
VERSION:2.0
PRODID:-//ChamberMaster//Event Calendar 2.0//EN
METHOD:PUBLISH
X-PUBLISHED-TTL:P3D
REFRESH-INTERVAL:P3D
CALSCALE:GREGORIAN
BEGIN:VEVENT
DTSTART:20121217T153000Z
DTEND:20121217T163000Z
X-MICROSOFT-CDO-ALLDAYEVENT:FALSE
SUMMARY:Review of US State Dept's Indonesia Investment Climate Statement
DESCRIPTION:The U.S. Embassy Jakarta is updating the U.S. Department of State's Indonesia Investment Climate Statement and would like to seek Council members' input on the 2012 Statement
X-ALT-DESC;FMTTYPE=text/html:<span style="color:#1f497d\;"><span style="font-family:arial\,sans-serif\;"><span style="font-size:9.0pt\;">The U.S. Embassy Jakarta is updating the U.S. Department of State&#39\;s Indonesia Investment Climate Statement&nbsp\;and would like to seek Council members&rsquo\; input on the 2012 Statement</span></span></span>
LOCATION:Grand Hyatt Hotel\, Jakarta
UID:e.9078.663
SEQUENCE:3
DTSTAMP:20260424T160618Z
URL:http://memberzone.usasean.org/events/details/review-of-us-state-dept-s-indonesia-investment-climate-statement-12-17-2012-663
END:VEVENT

END:VCALENDAR
