BEGIN:VCALENDAR
VERSION:2.0
PRODID:-//ChamberMaster//Event Calendar 2.0//EN
METHOD:PUBLISH
X-PUBLISHED-TTL:P3D
REFRESH-INTERVAL:P3D
CALSCALE:GREGORIAN
BEGIN:VEVENT
DTSTART;VALUE=DATE:20140423
DTEND;VALUE=DATE:20140424
TRANSP:TRANSPARENT
X-MICROSOFT-CDO-ALLDAYEVENT:TRUE
SUMMARY:Renewable and Alternative Energy Financing Workshop
DESCRIPTION:U.S.-Asia Pacific Comprehensive Energy Partnership (USACEP)\n\nEAS ECTF Renewable and Alternative Power Generation Workstream \n\nRenewable Energy Sub-Sector Network (RE-SSN)\n\n\n\nThe event will include regional delegates from the ASEAN member states\, members of the U.S. government interagency\, multilateral development bank representatives\, and the private sector.\n\n\n\nThe U.S. government\, the Energy Department at the Prime Minister's Office (EDPMO) of Brunei Darussalam\, the Brunei National Energy Research Institute (BNERI) and the RE-SSN will host a one-day Renewable and Alternative Energy Financing Workshop during the 21st Annual Meeting of the ASEAN Renewable Energy Sub-Sector Network. The workshop will highlight U.S. government and other regional vehicles available to fund renewable energy projects\, the criteria\, processes\, and requirement for securing financing\, and key lessons learned in financing renewable and alternative energy projects in the region.\n\n\n\nFor the formal invitation please click here.\n\nFor a tentative agenda please click here.
X-ALT-DESC;FMTTYPE=text/html:<span style="font-size:14px\;"><span style="font-family:arial\;">U.S.-Asia Pacific Comprehensive Energy Partnership (USACEP)<br />\nEAS ECTF Renewable and Alternative Power Generation Workstream&nbsp\;<br />\nRenewable Energy Sub-Sector Network (RE-SSN)<br />\n<br />\nThe event will include regional delegates from the ASEAN member states\, members of the U.S. government interagency\, multilateral development bank representatives\, and the private sector.<br />\n<br />\nThe U.S. government\, the Energy Department at the Prime Minister&rsquo\;s Office (EDPMO) of&nbsp\;Brunei Darussalam\, the Brunei National Energy Research Institute (BNERI) and the RE-SSN&nbsp\;will host a one-day Renewable and Alternative Energy Financing Workshop during the 21st&nbsp\;Annual Meeting of the ASEAN Renewable Energy Sub-Sector Network. The workshop will&nbsp\;highlight U.S. government and other regional vehicles available to fund renewable energy&nbsp\;projects\, the criteria\, processes\, and requirement for securing financing\, and key lessons&nbsp\;learned in financing renewable and alternative energy projects in the region.<br />\n<br />\nFor the formal invitation <a href="http://www.amcham.com.my/images/stories/INVITATION.pdf">please click here</a>.<br />\nFor a tentative agenda <a href="http://www.amcham.com.my/images/stories/Workshop%20Tentative%20Agenda.pdf">please click here</a>.</span></span>
LOCATION:Prince 1 Ballroom Prince Hotel Jalan Conlay Kuala Lumpur\, Malaysia
UID:e.9078.1105
SEQUENCE:3
DTSTAMP:20260420T151534Z
URL:http://memberzone.usasean.org/events/details/renewable-and-alternative-energy-financing-workshop-04-23-2014-1105
END:VEVENT

END:VCALENDAR
