BEGIN:VCALENDAR
VERSION:2.0
PRODID:-//ChamberMaster//Event Calendar 2.0//EN
METHOD:PUBLISH
X-PUBLISHED-TTL:P3D
REFRESH-INTERVAL:P3D
CALSCALE:GREGORIAN
BEGIN:VEVENT
DTSTART:20190925T220000Z
DTEND:20190926T010000Z
X-MICROSOFT-CDO-ALLDAYEVENT:FALSE
SUMMARY:Reception and Dinner in Honor of H.E. General Prayut Chan-o-cha\, Prime Minister of Thailand
DESCRIPTION:The US-ASEAN Business Council and the U.S. Chamber of Commerce are pleased to host a reception and dinner in honor of His Excellency General Prayut Chan-o-cha (Ret.)\, Prime Minister of Thailand on the sidelines of the UN General Assembly in New York.\n\n\n\nThis is Prime Minister Prayut's first visit to the United States since being re-elected during the historic March 2019 elections\, the first elections in Thailand in eight years. The dinner will be a unique opportunity to hear from the Prime Minister on the new government's agenda for economic and domestic reform\, after the Government officially assumed duties just this past July\, and the outlook on U.S.-Thailand relations. The dinner will also be an opportunity for follow-up engagement with the Prime Minister and his delegation following the Council's 2019 Thailand Business Mission in August.\n\n\n\nSponsors will have the opportunity to engage the Prime Minister and those traveling with him during an exclusive VIP meet and greet and throughout the dinner.\n\n\n\nPlease contact Ella Duangkaew (eduangkaew@usasean.org) or Javiera Gallardo (jgallardo@uschamber.com) with any questions.
X-ALT-DESC;FMTTYPE=text/html:<span style="font-family:arial\,sans-serif\;"><span style="font-size:12.0pt\;">The US-ASEAN Business Council and the U.S. Chamber of Commerce are pleased to host a reception and dinner in honor of His Excellency General Prayut Chan-o-cha (Ret.)\, Prime Minister of Thailand on the sidelines of the UN General Assembly in New York.<br />\n<br />\nThis is Prime Minister Prayut&#39\;s first visit to the United States since being re-elected during the historic March 2019 elections\, the first elections in Thailand in eight years. The dinner will be a unique opportunity to hear from the Prime Minister on the new government&#39\;s agenda for economic and domestic reform\, after the Government officially assumed duties just this past July\, and the outlook on U.S.-Thailand relations. The dinner will also be an opportunity for follow-up engagement with the Prime Minister and his delegation following the Council&#39\;s 2019 Thailand Business Mission in August.<br />\n<br />\nSponsors will have the opportunity to engage the Prime Minister and those traveling with him during an exclusive VIP meet and greet and throughout the dinner.<br />\n<br />\nPlease contact Ella Duangkaew (eduangkaew@usasean.org) or Javiera Gallardo (jgallardo@uschamber.com) with any questions.</span></span>
LOCATION:VENUE TBC New York\, NY
UID:e.9078.8019
SEQUENCE:3
DTSTAMP:20260424T233536Z
URL:http://memberzone.usasean.org/events/details/reception-and-dinner-in-honor-of-h-e-general-prayut-chan-o-cha-prime-minister-of-thailand-8019
END:VEVENT

END:VCALENDAR
