BEGIN:VCALENDAR
VERSION:2.0
PRODID:-//ChamberMaster//Event Calendar 2.0//EN
METHOD:PUBLISH
X-PUBLISHED-TTL:P3D
REFRESH-INTERVAL:P3D
CALSCALE:GREGORIAN
BEGIN:VEVENT
DTSTART;VALUE=DATE:20150209
DTEND;VALUE=DATE:20150214
TRANSP:TRANSPARENT
X-MICROSOFT-CDO-ALLDAYEVENT:TRUE
SUMMARY:RCEP TNC Meeting Thailand
DESCRIPTION:
X-ALT-DESC;FMTTYPE=text/html:
LOCATION:
UID:e.9078.1361
SEQUENCE:3
DTSTAMP:20260419T203401Z
URL:http://memberzone.usasean.org/events/details/rcep-tnc-meeting-thailand-02-09-2015-1361
END:VEVENT

END:VCALENDAR
