BEGIN:VCALENDAR
VERSION:2.0
PRODID:-//ChamberMaster//Event Calendar 2.0//EN
METHOD:PUBLISH
X-PUBLISHED-TTL:P3D
REFRESH-INTERVAL:P3D
CALSCALE:GREGORIAN
BEGIN:VEVENT
DTSTART:20150312T133000Z
DTEND:20150312T143000Z
X-MICROSOFT-CDO-ALLDAYEVENT:FALSE
SUMMARY:Quarterly Roundtable with the ASEAN Defense Attaches\, focus Coast Guards and the SCS
DESCRIPTION:Please join the Council for our quarterly discussion with the ASEAN Defense Attach s. Our featured speaker will be Ms. Kelli Seybolt.  To access Ms. Seybolt's biography\, please click here.
X-ALT-DESC;FMTTYPE=text/html:<span style="font-size:12px\;"><span style="font-family:arial\;"><span style="color:black\;">Please join the Council for our quarterly discussion with the ASEAN Defense Attach&eacute\;s. Our featured speaker will be Ms. Kelli Seybolt.&nbsp\; <a href="http://www.uscg.mil/flag/biography/KelliSeybolt.pdf">To access Ms. Seybolt&#39\;s biography\, please click here. </a></span></span></span><br />\n&nbsp\;
LOCATION:1101 17th Street NW Suite 411 Washington DC
UID:e.9078.1472
SEQUENCE:3
DTSTAMP:20260419T185906Z
URL:http://memberzone.usasean.org/events/details/quarterly-roundtable-with-the-asean-defense-attaches-focus-coast-guards-and-the-scs-03-12-2015-1472
END:VEVENT

END:VCALENDAR
