BEGIN:VCALENDAR
VERSION:2.0
PRODID:-//ChamberMaster//Event Calendar 2.0//EN
METHOD:PUBLISH
X-PUBLISHED-TTL:P3D
REFRESH-INTERVAL:P3D
CALSCALE:GREGORIAN
BEGIN:VEVENT
DTSTART:20140317T120000Z
DTEND:20140317T130000Z
X-MICROSOFT-CDO-ALLDAYEVENT:FALSE
SUMMARY:Quarterly Indonesia Committee Call
DESCRIPTION:Please join us for the next Quarterly Indonesia Committee Call. We have invited 2 guest speakers to join the call to provide a brief update on the upcoming elections in Indonesia and answer questions.\n\n\n\n1.    Shaun Levine\, Senior Analyst from the Eurasia Group \n\n2.    Ted Lyng\, Political Counselor from the US Embassy Jakarta
X-ALT-DESC;FMTTYPE=text/html:Please join us for the next Quarterly Indonesia&nbsp\;Committee Call. We have invited&nbsp\;2 guest speakers to join the call to provide a brief update on the upcoming elections in Indonesia and answer questions.<br />\n<br />\n1.&nbsp\;&nbsp\; &nbsp\;Shaun Levine\, Senior Analyst from the Eurasia Group&nbsp\;<br />\n2.&nbsp\;&nbsp\; &nbsp\;Ted Lyng\, Political Counselor from the US Embassy Jakarta
LOCATION:
UID:e.9078.1058
SEQUENCE:3
DTSTAMP:20260420T171659Z
URL:http://memberzone.usasean.org/events/details/quarterly-indonesia-committee-call-03-17-2014-1058
END:VEVENT

END:VCALENDAR
