BEGIN:VCALENDAR
VERSION:2.0
PRODID:-//ChamberMaster//Event Calendar 2.0//EN
METHOD:PUBLISH
X-PUBLISHED-TTL:P3D
REFRESH-INTERVAL:P3D
CALSCALE:GREGORIAN
BEGIN:VEVENT
DTSTART:20201209T020000Z
DTEND:20201209T033000Z
X-MICROSOFT-CDO-ALLDAYEVENT:FALSE
SUMMARY:Q4 Health & Life Sciences Committee Call
DESCRIPTION:The US-ASEAN Business Council is pleased to organize the Q4 2020 Health & Life Sciences Committee Call. A meeting agenda will be sent to registered participants prior to the call. \n\n\n\nFor questions\, please email Hai Pham (hpham@usasean.org).
X-ALT-DESC;FMTTYPE=text/html:<span style="font-size: 16px\; text-align: center\; color: rgb(68\, 68\, 68)\;"><span style="font-family: arial\, sans-serif\;"><span style="font-size: 12pt\;">The US-ASEAN Business Council is pleased to organize the Q4 2020 Health &amp\; Life Sciences Committee Call. A meeting agenda will be sent to registered participants prior to the call.&nbsp\;</span></span></span><br />\n<br style="font-size: 16px\; text-align: center\;" />\n<span style="font-size: 16px\; text-align: center\;">For questions\, please email Hai Pham (hpham@usasean.org).</span>
LOCATION:
UID:e.9078.8340
SEQUENCE:3
DTSTAMP:20260420T051756Z
URL:http://memberzone.usasean.org/events/details/q4-health-life-sciences-committee-call-8340
END:VEVENT

END:VCALENDAR
