BEGIN:VCALENDAR
VERSION:2.0
PRODID:-//ChamberMaster//Event Calendar 2.0//EN
METHOD:PUBLISH
X-PUBLISHED-TTL:P3D
REFRESH-INTERVAL:P3D
CALSCALE:GREGORIAN
BEGIN:VEVENT
DTSTART:20221014T000000Z
DTEND:20221014T010000Z
X-MICROSOFT-CDO-ALLDAYEVENT:FALSE
SUMMARY:Q4 2022 Travel and Tourism Committee Call
DESCRIPTION:
X-ALT-DESC;FMTTYPE=text/html:
LOCATION:Join Zoom Meeting (Recommended) https://usasean.zoom.us/j/89410846203?pwd=blRrc0ptRlFvc2NuM1IxQUcyUGV3QT09 We strongly encourage you to join this call using the Zoom app/client by clicking the link above. This enables full functionality and minimal bandwidth issues. Meeting ID: 894 1084 6203 Password: 020015 Other Dial in Options: One tap mobile +622139501721\,\,89410846203# Indonesia Dial by your location +62 21 3950 1721 Indonesia +1 720 707 2699 US (Denver) 888 475 4499 US Toll-free +65 3165 1065 Singapore 800 852 6054 Singapore Toll-free Meeting ID: 894 1084 6203 Password: 020015 Find your local number: https://usasean.zoom.us/u/kcFhQoBiMS Join by SIP 89410846203@zoomcrc.com Join by H.323 162.255.37.11 (US West) 162.255.36.11 (US East) 213.19.144.110 (Amsterdam Netherlands) 213.244.140.110 (Germany) 103.122.166.55 (Australia Sydney) 103.122.167.55 (Australia Melbourne) 149.137.40.110 (Singapore) 69.174.57.160 (Canada Toronto) 65.39.152.160 (Canada Vancouver) 207.226.132.110 (Japan Tokyo) 149.137.24.110 (Japan Osaka) Meeting ID: 894 1084 6203 Password: 020015 Join by Skype for Business https://usasean.zoom.us/skype/89410846203
UID:e.9078.8888
SEQUENCE:3
DTSTAMP:20260421T205258Z
URL:http://memberzone.usasean.org/events/details/q4-2022-travel-and-tourism-committee-call-8888
END:VEVENT

END:VCALENDAR
