BEGIN:VCALENDAR
VERSION:2.0
PRODID:-//ChamberMaster//Event Calendar 2.0//EN
METHOD:PUBLISH
X-PUBLISHED-TTL:P3D
REFRESH-INTERVAL:P3D
CALSCALE:GREGORIAN
BEGIN:VEVENT
DTSTART:20201204T020000Z
DTEND:20201204T040000Z
X-MICROSOFT-CDO-ALLDAYEVENT:FALSE
SUMMARY:Q4 2020 Indonesia Committee Planning Call
DESCRIPTION:
X-ALT-DESC;FMTTYPE=text/html:
LOCATION:
UID:e.9078.8349
SEQUENCE:3
DTSTAMP:20260420T050940Z
URL:http://memberzone.usasean.org/events/details/q4-2020-indonesia-committee-planning-call-8349
END:VEVENT

END:VCALENDAR
