BEGIN:VCALENDAR
VERSION:2.0
PRODID:-//ChamberMaster//Event Calendar 2.0//EN
METHOD:PUBLISH
X-PUBLISHED-TTL:P3D
REFRESH-INTERVAL:P3D
CALSCALE:GREGORIAN
BEGIN:VEVENT
DTSTART:20200930T060000Z
DTEND:20200930T070000Z
X-MICROSOFT-CDO-ALLDAYEVENT:FALSE
SUMMARY:Q3 Infrastructure Committee Call
DESCRIPTION:The Council is pleased to invite members to join the Quarter 3 Infrastructure Committee Call. The call will discuss member issues in the infrastructure space\, planned committee engagements\, and outline Infrastructure Committee priorities for the last half of 2020.\n\n\n\nThe proposed meeting agenda is as follows:\n\n	Welcome Remarks - Amb. Michael Michalak\n	Opening Remarks by Committee Leaders\n	Consultation Session at the 26th ASEAN Transport Ministers Meeting\n	\n		 26 ATM will convene virtually on November 24\, 2020\n		ATM & Dialogue Partners Sessions November 24 - 25\, 2020\n	\n	\n	Infrastructure Committee Engagement Proposals\n	\n		 Revised virtual program concept note\n		Review Draft USABC Infrastructure and Energy Committee Joint Engagement Proposal\n	\n	\n	Closing Remarks & Summary of Next Steps\n\nDial-in details and a finalized call agenda will be provided to registered participants ahead of the call. Please register before COB Monday\, September 28 (SGT). For questions or to submit call topics\, please contact J-Ren Ong (jong@usasean.org) or Shay Wester (swester@usasean.org).
X-ALT-DESC;FMTTYPE=text/html:<span style="font-family: arial\; font-size: 16px\;">The Council is pleased to invite members to join the Quarter 3 Infrastructure Committee Call. The call will discuss member issues in the infrastructure space\, planned committee engagements\, and outline Infrastructure Committee priorities for the last half of 2020.<br />\n<br />\nThe proposed meeting agenda is as follows:</span>\n<ul style="font-family: Tahoma\, sans-serif\; font-size: 14.6667px\;">\n	<li style="text-align:justify\;"><strong><span style="font-family:arial\,sans-serif\;"><span style="font-size:12.0pt\;">Welcome Remarks - Amb. Michael&nbsp\;Michalak</span></span></strong></li>\n	<li style="text-align:justify\;"><strong><span style="font-family:arial\,sans-serif\;"><span style="font-size:12.0pt\;">Opening Remarks by Committee Leaders</span></span></strong></li>\n	<li style="text-align: justify\;"><span style="font-size:16px\;"><strong><span style="font-family: arial\, sans-serif\;">Consultation Session at&nbsp\;the 26th ASEAN Transport Ministers Meeting</span></strong></span>\n	<ul>\n		<li style="text-align: justify\;"><span style="font-size:16px\;"><strong><span style="font-family: arial\, sans-serif\;">&#8203\;</span></strong><span style="font-family: arial\, sans-serif\;">26 ATM will convene virtually on November 24\, 2020</span></span></li>\n		<li style="text-align: justify\;"><span style="font-size:16px\;"><span style="font-family: arial\, sans-serif\;">ATM &amp\; Dialogue Partners Sessions November 24 - 25\, 2020</span></span></li>\n	</ul>\n	</li>\n	<li style="text-align: justify\;"><span style="font-size:16px\;"><strong><span style="font-family: arial\, sans-serif\;">Infrastructure Committee Engagement Proposals</span></strong></span>\n	<ul>\n		<li style="text-align: justify\;"><span style="font-size:16px\;"><strong><span style="font-family: arial\, sans-serif\;">&#8203\;</span></strong><span style="font-family: arial\, sans-serif\;">Revised virtual program concept note</span></span></li>\n		<li style="text-align: justify\;"><span style="font-size:16px\;"><span style="font-family: arial\, sans-serif\;">Review Draft&nbsp\;USABC Infrastructure and Energy Committee Joint&nbsp\;Engagement&nbsp\;Proposal</span></span></li>\n	</ul>\n	</li>\n	<li style="text-align:justify\;"><strong><span style="font-family:arial\,sans-serif\;"><span style="font-size:12.0pt\;">Closing Remarks &amp\; Summary of Next Steps</span></span></strong></li>\n</ul>\n<span style="font-family: Tahoma\, sans-serif\; font-size: 16px\;"><span style="font-family: arial\;">Dial-in details and a finalized call agenda will be provided to registered participants ahead of the call. Please register before&nbsp\;<strong>COB Monday\, September 28 (SGT).&nbsp\;</strong>For questions or to submit call topics\, please contact J-Ren Ong (<a href="mailto:jong@usasean.org">jong@usasean.org</a>) or Shay Wester (<a href="mailto:swester@usasean.org">swester@usasean.org</a>).</span></span>
LOCATION:
UID:e.9078.8291
SEQUENCE:3
DTSTAMP:20260420T095225Z
URL:http://memberzone.usasean.org/events/details/q3-infrastructure-committee-call-8291
END:VEVENT

END:VCALENDAR
