BEGIN:VCALENDAR
VERSION:2.0
PRODID:-//ChamberMaster//Event Calendar 2.0//EN
METHOD:PUBLISH
X-PUBLISHED-TTL:P3D
REFRESH-INTERVAL:P3D
CALSCALE:GREGORIAN
BEGIN:VEVENT
DTSTART:20200729T010000Z
DTEND:20200729T020000Z
X-MICROSOFT-CDO-ALLDAYEVENT:FALSE
SUMMARY:Q3-2020 Food & Agriculture Committee Call
DESCRIPTION:Q3 Food & Agriculture Committee Call
X-ALT-DESC;FMTTYPE=text/html:Q3 Food &amp\; Agriculture Committee Call
LOCATION:Zoom: dial-in details will be shared with registrants prior to the call
UID:e.9078.8240
SEQUENCE:3
DTSTAMP:20260420T130415Z
URL:http://memberzone.usasean.org/events/details/q3-2020-food-agriculture-committee-call-8240
END:VEVENT

END:VCALENDAR
