BEGIN:VCALENDAR
VERSION:2.0
PRODID:-//ChamberMaster//Event Calendar 2.0//EN
METHOD:PUBLISH
X-PUBLISHED-TTL:P3D
REFRESH-INTERVAL:P3D
CALSCALE:GREGORIAN
BEGIN:VEVENT
DTSTART:20220720T150000Z
DTEND:20220720T160000Z
X-MICROSOFT-CDO-ALLDAYEVENT:FALSE
SUMMARY:Q2 2022 Singapore Committee Call
DESCRIPTION:Singapore 2nd Quarterly Call\n\n\n\nAgenda and Zoom Dial-In Details will be sent to registered members
X-ALT-DESC;FMTTYPE=text/html:Singapore 2nd Quarterly Call<br />\n<br />\nAgenda and Zoom Dial-In Details will be sent to registered members
LOCATION:Virtual Via Zoom
UID:e.9078.8815
SEQUENCE:3
DTSTAMP:20260422T014855Z
URL:http://memberzone.usasean.org/events/details/q2-2022-singapore-committee-call-8815
END:VEVENT

END:VCALENDAR
