BEGIN:VCALENDAR
VERSION:2.0
PRODID:-//ChamberMaster//Event Calendar 2.0//EN
METHOD:PUBLISH
X-PUBLISHED-TTL:P3D
REFRESH-INTERVAL:P3D
CALSCALE:GREGORIAN
BEGIN:VEVENT
DTSTART:20210201T020000Z
DTEND:20210201T030000Z
X-MICROSOFT-CDO-ALLDAYEVENT:FALSE
SUMMARY:Q1 Financial Services Committee Call and Planning Call for 2021 AFMGM
DESCRIPTION:
X-ALT-DESC;FMTTYPE=text/html:
LOCATION:
UID:e.9078.8380
SEQUENCE:3
DTSTAMP:20260420T034351Z
URL:http://memberzone.usasean.org/events/details/q1-financial-services-committee-call-and-planning-call-for-2021-afmgm-8380
END:VEVENT

END:VCALENDAR
