BEGIN:VCALENDAR
VERSION:2.0
PRODID:-//ChamberMaster//Event Calendar 2.0//EN
METHOD:PUBLISH
X-PUBLISHED-TTL:P3D
REFRESH-INTERVAL:P3D
CALSCALE:GREGORIAN
BEGIN:VEVENT
DTSTART:20200327T010000Z
DTEND:20200327T020000Z
X-MICROSOFT-CDO-ALLDAYEVENT:FALSE
SUMMARY:Q1 2020 Travel and Tourism Committee Members Meeting
DESCRIPTION:
X-ALT-DESC;FMTTYPE=text/html:
LOCATION:
UID:e.9078.8167
SEQUENCE:3
DTSTAMP:20260424T014028Z
URL:http://memberzone.usasean.org/events/details/q1-2020-travel-and-tourism-committee-members-meeting-8167
END:VEVENT

END:VCALENDAR
