BEGIN:VCALENDAR
VERSION:2.0
PRODID:-//ChamberMaster//Event Calendar 2.0//EN
METHOD:PUBLISH
X-PUBLISHED-TTL:P3D
REFRESH-INTERVAL:P3D
CALSCALE:GREGORIAN
BEGIN:VEVENT
DTSTART:20150420T190000Z
DTEND:20150420T210000Z
X-MICROSOFT-CDO-ALLDAYEVENT:FALSE
SUMMARY:Press conference on the 6-month accomplishments of the Ministry of Commerce (Thailand)
DESCRIPTION:The Ministry of Commerce has the honor to invite you  to a press conference on the 6- month accomplishments of the Ministry of Commerce.\n\n\n\nThe press conference will be chaired by the Minister of Commerce (Gen. Chatchai Sarikulya) with a view to provide foreign representatives in Thailand and their business communities a greater level of understanding on the implementations of Ministry of Commerce and extensively showcase the Ministry's prime achievements during the past 6 months.
X-ALT-DESC;FMTTYPE=text/html:<br />\nThe Ministry of Commerce has the honor to invite you &nbsp\;to a press conference on the 6- month accomplishments of the Ministry of Commerce.<br />\n<br />\nThe press conference will be chaired by the Minister of Commerce (Gen. Chatchai Sarikulya) with a view to provide foreign representatives in Thailand and their business communities a greater level of understanding on the implementations of Ministry of Commerce and extensively showcase the Ministry&#39\;s prime achievements during the past 6 months.<br />\n&nbsp\;
LOCATION:Ministry of Commerce Bangkok Thailand
UID:e.9078.1539
SEQUENCE:3
DTSTAMP:20260419T171033Z
URL:http://memberzone.usasean.org/events/details/press-conference-on-the-6-month-accomplishments-of-the-ministry-of-commerce-thailand-04-20-2015-1539
END:VEVENT

END:VCALENDAR
