BEGIN:VCALENDAR
VERSION:2.0
PRODID:-//ChamberMaster//Event Calendar 2.0//EN
METHOD:PUBLISH
X-PUBLISHED-TTL:P3D
REFRESH-INTERVAL:P3D
CALSCALE:GREGORIAN
BEGIN:VEVENT
DTSTART;VALUE=DATE:20110705
DTEND;VALUE=DATE:20110820
TRANSP:TRANSPARENT
X-MICROSOFT-CDO-ALLDAYEVENT:TRUE
SUMMARY:Pre-Mission Consultation in Washington with the Vietnam Embassy - Jul 5 2011
DESCRIPTION:
X-ALT-DESC;FMTTYPE=text/html:
LOCATION:
UID:e.9078.493
SEQUENCE:3
DTSTAMP:20260426T032451Z
URL:http://memberzone.usasean.org/events/details/pre-mission-consultation-in-washington-with-the-vietnam-embassy-jul-5-2011-07-05-2011-493
END:VEVENT

END:VCALENDAR
