BEGIN:VCALENDAR
VERSION:2.0
PRODID:-//ChamberMaster//Event Calendar 2.0//EN
METHOD:PUBLISH
X-PUBLISHED-TTL:P3D
REFRESH-INTERVAL:P3D
CALSCALE:GREGORIAN
BEGIN:VEVENT
DTSTART:20210721T010000Z
DTEND:20210721T020000Z
X-MICROSOFT-CDO-ALLDAYEVENT:FALSE
SUMMARY:Pre-mission briefing 2021 Virtual Singapore Business Mission
DESCRIPTION:Pre-Mission Briefing\n\n2021 Virtual Singapore Business Mission
X-ALT-DESC;FMTTYPE=text/html:Pre-Mission Briefing<br />\n2021 Virtual Singapore Business Mission
LOCATION:Zoom
UID:e.9078.8488
SEQUENCE:3
DTSTAMP:20260419T192205Z
URL:http://memberzone.usasean.org/events/details/pre-mission-briefing-2021-virtual-singapore-business-mission-8488
END:VEVENT

END:VCALENDAR
