BEGIN:VCALENDAR
VERSION:2.0
PRODID:-//ChamberMaster//Event Calendar 2.0//EN
METHOD:PUBLISH
X-PUBLISHED-TTL:P3D
REFRESH-INTERVAL:P3D
CALSCALE:GREGORIAN
BEGIN:VEVENT
DTSTART:20200826T130000Z
DTEND:20200826T140000Z
X-MICROSOFT-CDO-ALLDAYEVENT:FALSE
SUMMARY:Pre-Mission Briefing 2020 Virtual Philippines Business Mission
DESCRIPTION:The final planning call of the 2020 Virtual Philippines Business Mission will be dedicated to a pre-mission briefing. The agenda and Zoom dial in details will be given only to registered mission participants.\n\nTo register for the mission at the regular rate\, please visit https://www.usasean.org/mission/registration.
X-ALT-DESC;FMTTYPE=text/html:The final planning call of the 2020 Virtual Philippines Business Mission will be dedicated to a pre-mission briefing. The agenda and Zoom dial in details will be given only to registered mission participants.<br />\nTo register for the mission at the regular rate\, please visit&nbsp\;<a href="https://www.usasean.org/mission/registration">https://www.usasean.org/mission/registration</a>.&nbsp\;&nbsp\;
LOCATION:Zoom meeting
UID:e.9078.8274
SEQUENCE:3
DTSTAMP:20260420T111432Z
URL:http://memberzone.usasean.org/events/details/pre-mission-briefing-2020-virtual-philippines-business-mission-8274
END:VEVENT

END:VCALENDAR
