BEGIN:VCALENDAR
VERSION:2.0
PRODID:-//ChamberMaster//Event Calendar 2.0//EN
METHOD:PUBLISH
X-PUBLISHED-TTL:P3D
REFRESH-INTERVAL:P3D
CALSCALE:GREGORIAN
BEGIN:VEVENT
DTSTART:20131029T180000Z
DTEND:20131029T220000Z
X-MICROSOFT-CDO-ALLDAYEVENT:FALSE
SUMMARY:Power Connections for the Future
DESCRIPTION:On October 29\, 2013 the U.S. Department of State Energy and Natural Resources (ENR) Bureau is organizing a Power Connections for the Future event as part of the Singapore International Energy Week (SIEW) in Singapore. \n\n\n\nFor invitation- click here\n\nFor an information guide- click here\n\nFor registration form- click here
X-ALT-DESC;FMTTYPE=text/html:<span style="font-size:16px\;"><span style="font-family: arial\;">On October 29\, 2013 the U.S. Department of State Energy and Natural Resources (ENR) Bureau is organizing a Power Connections for the Future event as part of the Singapore International Energy Week (SIEW) in Singapore.&nbsp\;<br />\n<br />\nFor invitation- <a href="http://cloud.chambermaster.com/userfiles/UserFiles/chambers/9078/File/INVITATION-PowerConnectionsfortheFuture.pdf">click here</a><br />\nFor an information guide- <a href="http://cloud.chambermaster.com/userfiles/UserFiles/chambers/9078/File/INFORMATIONGUIDE-PowerConnectionsfortheFuture.pdf">click here</a><br />\nFor registration form- <a href="http://cloud.chambermaster.com/userfiles/UserFiles/chambers/9078/File/REGISTRATION-PowerConnectionsfortheFuture.docx">click here</a></span></span><br />\n
LOCATION:Marina Bay Sands\, Sands Expo and Convention Centre 10 Bayfront Avenue\, Singapore 018956
UID:e.9078.925
SEQUENCE:3
DTSTAMP:20260421T123547Z
URL:http://memberzone.usasean.org/events/details/power-connections-for-the-future-10-29-2013-925
END:VEVENT

END:VCALENDAR
