BEGIN:VCALENDAR
VERSION:2.0
PRODID:-//ChamberMaster//Event Calendar 2.0//EN
METHOD:PUBLISH
X-PUBLISHED-TTL:P3D
REFRESH-INTERVAL:P3D
CALSCALE:GREGORIAN
BEGIN:VEVENT
DTSTART:20210528T010000Z
DTEND:20210528T020000Z
X-MICROSOFT-CDO-ALLDAYEVENT:FALSE
SUMMARY:Planning Meeting for the 2021 ATRC OTT Dialogue
DESCRIPTION:A planning call to coordinate speakers and messages at the 2021 ATRC OTT Dialogue.
X-ALT-DESC;FMTTYPE=text/html:A planning call to coordinate speakers and messages at the 2021 ATRC OTT Dialogue.&nbsp\;
LOCATION:Zoom
UID:e.9078.8470
SEQUENCE:3
DTSTAMP:20260419T210311Z
URL:http://memberzone.usasean.org/events/details/planning-meeting-for-the-2021-atrc-ott-dialogue-8470
END:VEVENT

END:VCALENDAR
