BEGIN:VCALENDAR
VERSION:2.0
PRODID:-//ChamberMaster//Event Calendar 2.0//EN
METHOD:PUBLISH
X-PUBLISHED-TTL:P3D
REFRESH-INTERVAL:P3D
CALSCALE:GREGORIAN
BEGIN:VEVENT
DTSTART:20200708T000000Z
DTEND:20200708T010000Z
X-MICROSOFT-CDO-ALLDAYEVENT:FALSE
SUMMARY:Planning Call for the 2020 Virtual Meeting Series: ASEAN Finance Ministries and Central Banks
DESCRIPTION:
X-ALT-DESC;FMTTYPE=text/html:
LOCATION:Zoom
UID:e.9078.8243
SEQUENCE:3
DTSTAMP:20260420T124832Z
URL:http://memberzone.usasean.org/events/details/planning-call-for-the-2020-virtual-meeting-series-asean-finance-ministries-and-central-banks-8243
END:VEVENT

END:VCALENDAR
