BEGIN:VCALENDAR
VERSION:2.0
PRODID:-//ChamberMaster//Event Calendar 2.0//EN
METHOD:PUBLISH
X-PUBLISHED-TTL:P3D
REFRESH-INTERVAL:P3D
CALSCALE:GREGORIAN
BEGIN:VEVENT
DTSTART:20200625T010000Z
DTEND:20200625T020000Z
X-MICROSOFT-CDO-ALLDAYEVENT:FALSE
SUMMARY:Planning Call for the 2020 ATRC Stakeholder Consultative Dialogue
DESCRIPTION:The Council would like to invite members to join us for a planning call ahead of the 2020 ATRC Stakeholder Consultative Dialogue. The goal of the planning call is to help us strategize which items should be addressed and prioritized at the 2020 ATRC Stakeholder Consultative Dialogue and in the ASEAN Initiative for Facilitating Sustainable OTT Ecosystem.
X-ALT-DESC;FMTTYPE=text/html:The Council would like to invite members to join us for a planning call ahead of the 2020 ATRC Stakeholder Consultative Dialogue. The goal of the planning call is to help us strategize which items should be addressed and prioritized at the 2020 ATRC Stakeholder Consultative Dialogue and in the ASEAN Initiative for Facilitating Sustainable OTT Ecosystem.&nbsp\;
LOCATION:Zoom Call
UID:e.9078.8227
SEQUENCE:3
DTSTAMP:20260420T140646Z
URL:http://memberzone.usasean.org/events/details/planning-call-for-the-2020-atrc-stakeholder-consultative-dialogue-8227
END:VEVENT

END:VCALENDAR
