BEGIN:VCALENDAR
VERSION:2.0
PRODID:-//ChamberMaster//Event Calendar 2.0//EN
METHOD:PUBLISH
X-PUBLISHED-TTL:P3D
REFRESH-INTERVAL:P3D
CALSCALE:GREGORIAN
BEGIN:VEVENT
DTSTART:20190926T014500Z
DTEND:20190926T024500Z
X-MICROSOFT-CDO-ALLDAYEVENT:FALSE
SUMMARY:Planning Call for ASEAN Tourism Committee Meetings: US-ABC Digital Economy Workshop and Human Capacity Building Presentation
DESCRIPTION:
X-ALT-DESC;FMTTYPE=text/html:
LOCATION:
UID:e.9078.8038
SEQUENCE:3
DTSTAMP:20260424T233537Z
URL:http://memberzone.usasean.org/events/details/planning-call-for-asean-tourism-committee-meetings-us-abc-digital-economy-workshop-and-human-capacity-building-presentation-8038
END:VEVENT

END:VCALENDAR
