BEGIN:VCALENDAR
VERSION:2.0
PRODID:-//ChamberMaster//Event Calendar 2.0//EN
METHOD:PUBLISH
X-PUBLISHED-TTL:P3D
REFRESH-INTERVAL:P3D
CALSCALE:GREGORIAN
BEGIN:VEVENT
DTSTART:20210113T020000Z
DTEND:20210113T030000Z
X-MICROSOFT-CDO-ALLDAYEVENT:FALSE
SUMMARY:Planning Call for 2021 Virtual Mission to 24th Meetings of ASEAN Tourism Ministers (M-ATM)
DESCRIPTION:Interested members are invited to join this planning call for registration information and mission updates on the 2021 Virtual Mission to the 24th Meeting of ASEAN Tourism Ministers (24th M-ATM).
X-ALT-DESC;FMTTYPE=text/html:Interested members are invited to join this planning call for registration information and mission updates on the 2021 Virtual Mission to the 24th Meeting of ASEAN Tourism Ministers (24th M-ATM).
LOCATION:Zoom call
UID:e.9078.8363
SEQUENCE:3
DTSTAMP:20260420T035046Z
URL:http://memberzone.usasean.org/events/details/planning-call-for-2021-virtual-mission-to-24th-meetings-of-asean-tourism-ministers-m-atm-8363
END:VEVENT

END:VCALENDAR
