BEGIN:VCALENDAR
VERSION:2.0
PRODID:-//ChamberMaster//Event Calendar 2.0//EN
METHOD:PUBLISH
X-PUBLISHED-TTL:P3D
REFRESH-INTERVAL:P3D
CALSCALE:GREGORIAN
BEGIN:VEVENT
DTSTART:20200608T010000Z
DTEND:20200608T013000Z
X-MICROSOFT-CDO-ALLDAYEVENT:FALSE
SUMMARY:Planning Call for 2020 Virtual Meeting Series: ASEAN Tourism Ministries
DESCRIPTION:
X-ALT-DESC;FMTTYPE=text/html:
LOCATION:Zoom Meeting
UID:e.9078.8217
SEQUENCE:3
DTSTAMP:20260420T141104Z
URL:http://memberzone.usasean.org/events/details/planning-call-for-2020-virtual-meeting-series-asean-tourism-ministries-8217
END:VEVENT

END:VCALENDAR
