BEGIN:VCALENDAR
VERSION:2.0
PRODID:-//ChamberMaster//Event Calendar 2.0//EN
METHOD:PUBLISH
X-PUBLISHED-TTL:P3D
REFRESH-INTERVAL:P3D
CALSCALE:GREGORIAN
BEGIN:VEVENT
DTSTART:20210708T010000Z
DTEND:20210708T020000Z
X-MICROSOFT-CDO-ALLDAYEVENT:FALSE
SUMMARY:Planning Call #2\, 2021 Virtual Singapore Business Mission
DESCRIPTION:Planning Call #2\, 2021 Virtual Singapore Business Mission\n\nConfirmed Speaker: DCM Cindy Wee
X-ALT-DESC;FMTTYPE=text/html:Planning Call #2\, 2021 Virtual Singapore Business Mission<br />\nConfirmed Speaker: DCM Cindy Wee
LOCATION:Zoom Meeting
UID:e.9078.8487
SEQUENCE:3
DTSTAMP:20260419T174247Z
URL:http://memberzone.usasean.org/events/details/planning-call-3-2021-virtual-singapore-business-mission-8487
END:VEVENT

END:VCALENDAR
