BEGIN:VCALENDAR
VERSION:2.0
PRODID:-//ChamberMaster//Event Calendar 2.0//EN
METHOD:PUBLISH
X-PUBLISHED-TTL:P3D
REFRESH-INTERVAL:P3D
CALSCALE:GREGORIAN
BEGIN:VEVENT
DTSTART:20200813T010000Z
DTEND:20200813T020000Z
X-MICROSOFT-CDO-ALLDAYEVENT:FALSE
SUMMARY:Planning Call #2 Virtual Philippines Business Mission Sept 1-4\, 2020
DESCRIPTION:Planning Call #2 for the 2020 Virtual Philippines Business Mission
X-ALT-DESC;FMTTYPE=text/html:Planning Call #2 for the 2020 Virtual Philippines Business Mission
LOCATION:Zoom call
UID:e.9078.8270
SEQUENCE:3
DTSTAMP:20260420T111426Z
URL:http://memberzone.usasean.org/events/details/planning-call-2-virtual-philippines-business-mission-sept-1-4-2020-8270
END:VEVENT

END:VCALENDAR
