BEGIN:VCALENDAR
VERSION:2.0
PRODID:-//ChamberMaster//Event Calendar 2.0//EN
METHOD:PUBLISH
X-PUBLISHED-TTL:P3D
REFRESH-INTERVAL:P3D
CALSCALE:GREGORIAN
BEGIN:VEVENT
DTSTART:20210427T010000Z
DTEND:20210427T020000Z
X-MICROSOFT-CDO-ALLDAYEVENT:FALSE
SUMMARY:Planning Call #2\, 2021 Virtual Philippines Business Mission\, 17-21 May
DESCRIPTION:Planning Call #2\, 2021 Virtual Philippines Business Mission\, 17-21 May 2021\n\nGuest Speaker: Prof. Victor Andres "Dindo" C. Manhit
X-ALT-DESC;FMTTYPE=text/html:Planning Call #2\, 2021 Virtual Philippines Business Mission\, 17-21 May 2021<br />\nGuest Speaker:&nbsp\;Prof. Victor Andres &ldquo\;Dindo&rdquo\; C. Manhit&nbsp\;
LOCATION:Zoom meeting
UID:e.9078.8449
SEQUENCE:3
DTSTAMP:20260419T224515Z
URL:http://memberzone.usasean.org/events/details/planning-call-2-2021-virtual-philippines-business-mission-17-21-may-8449
END:VEVENT

END:VCALENDAR
