BEGIN:VCALENDAR
VERSION:2.0
PRODID:-//ChamberMaster//Event Calendar 2.0//EN
METHOD:PUBLISH
X-PUBLISHED-TTL:P3D
REFRESH-INTERVAL:P3D
CALSCALE:GREGORIAN
BEGIN:VEVENT
DTSTART:20210126T020000Z
DTEND:20210126T030000Z
X-MICROSOFT-CDO-ALLDAYEVENT:FALSE
SUMMARY:Planning Call #2 2021 Virtual Mission to 24th Meeting of ASEAN Tourism Ministers (M-ATM)
DESCRIPTION:Virtual Meeting over Zoom
X-ALT-DESC;FMTTYPE=text/html:Virtual Meeting over Zoom
LOCATION:
UID:e.9078.8374
SEQUENCE:3
DTSTAMP:20260420T052913Z
URL:http://memberzone.usasean.org/events/details/planning-call-2-2021-virtual-mission-to-24th-meeting-of-asean-tourism-ministers-m-atm-8374
END:VEVENT

END:VCALENDAR
