BEGIN:VCALENDAR
VERSION:2.0
PRODID:-//ChamberMaster//Event Calendar 2.0//EN
METHOD:PUBLISH
X-PUBLISHED-TTL:P3D
REFRESH-INTERVAL:P3D
CALSCALE:GREGORIAN
BEGIN:VEVENT
DTSTART;VALUE=DATE:20110922
DTEND;VALUE=DATE:20110923
TRANSP:TRANSPARENT
X-MICROSOFT-CDO-ALLDAYEVENT:TRUE
SUMMARY:Philippine IPO - Sep 22 2011
DESCRIPTION:
X-ALT-DESC;FMTTYPE=text/html:
LOCATION:
UID:e.9078.491
SEQUENCE:3
DTSTAMP:20260426T012511Z
URL:http://memberzone.usasean.org/events/details/philippine-ipo-sep-22-2011-09-22-2011-491
END:VEVENT

END:VCALENDAR
