BEGIN:VCALENDAR
VERSION:2.0
PRODID:-//ChamberMaster//Event Calendar 2.0//EN
METHOD:PUBLISH
X-PUBLISHED-TTL:P3D
REFRESH-INTERVAL:P3D
CALSCALE:GREGORIAN
BEGIN:VEVENT
DTSTART;VALUE=DATE:20110826
DTEND;VALUE=DATE:20110827
TRANSP:TRANSPARENT
X-MICROSOFT-CDO-ALLDAYEVENT:TRUE
SUMMARY:Philippine Invitation: Members' Roundtable with AUSTR Barbara Weisel\, Fri. August 26\, 10 AM\, DC - Aug 26 2011
DESCRIPTION:
X-ALT-DESC;FMTTYPE=text/html:
LOCATION:
UID:e.9078.489
SEQUENCE:3
DTSTAMP:20260426T031730Z
URL:http://memberzone.usasean.org/events/details/philippine-invitation-members-roundtable-with-austr-barbara-weisel-fri-august-26-10-am-dc-aug-26-2011-08-26-2011-489
END:VEVENT

END:VCALENDAR
