BEGIN:VCALENDAR
VERSION:2.0
PRODID:-//ChamberMaster//Event Calendar 2.0//EN
METHOD:PUBLISH
X-PUBLISHED-TTL:P3D
REFRESH-INTERVAL:P3D
CALSCALE:GREGORIAN
BEGIN:VEVENT
DTSTART;VALUE=DATE:20120124
DTEND;VALUE=DATE:20120125
TRANSP:TRANSPARENT
X-MICROSOFT-CDO-ALLDAYEVENT:TRUE
SUMMARY:Philippine Invitation: DC Members Meeting with US Embassy Manila Economic Officer - Jan 24 2012
DESCRIPTION:
X-ALT-DESC;FMTTYPE=text/html:
LOCATION:
UID:e.9078.487
SEQUENCE:3
DTSTAMP:20260425T101855Z
URL:http://memberzone.usasean.org/events/details/philippine-invitation-dc-members-meeting-with-us-embassy-manila-economic-officer-jan-24-2012-01-24-2012-487
END:VEVENT

END:VCALENDAR
