BEGIN:VCALENDAR
VERSION:2.0
PRODID:-//ChamberMaster//Event Calendar 2.0//EN
METHOD:PUBLISH
X-PUBLISHED-TTL:P3D
REFRESH-INTERVAL:P3D
CALSCALE:GREGORIAN
BEGIN:VEVENT
DTSTART;VALUE=DATE:20111214
DTEND;VALUE=DATE:20111215
TRANSP:TRANSPARENT
X-MICROSOFT-CDO-ALLDAYEVENT:TRUE
SUMMARY:Philippine Committee Conference Call to discuss the 2012 Work Plan - Dec 14 2011
DESCRIPTION:
X-ALT-DESC;FMTTYPE=text/html:
LOCATION:
UID:e.9078.485
SEQUENCE:3
DTSTAMP:20260425T121035Z
URL:http://memberzone.usasean.org/events/details/philippine-committee-conference-call-to-discuss-the-2012-work-plan-dec-14-2011-12-14-2011-485
END:VEVENT

END:VCALENDAR
