BEGIN:VCALENDAR
VERSION:2.0
PRODID:-//ChamberMaster//Event Calendar 2.0//EN
METHOD:PUBLISH
X-PUBLISHED-TTL:P3D
REFRESH-INTERVAL:P3D
CALSCALE:GREGORIAN
BEGIN:VEVENT
DTSTART:20200715T150000Z
DTEND:20200715T160000Z
X-MICROSOFT-CDO-ALLDAYEVENT:FALSE
SUMMARY:Partner Event: Diversification for a Resilient Supply Chain 2020
DESCRIPTION:On July 15\, the Council will partner with FPT Corporation to co-host a webinar - "COVID-19 Impacts: Diversification for a Resilient Supply Chain 2020" to discuss the pandemic's impact on the global supply chain and how geo-diversification can create sustainability for a circular economy future. The webinar will provide insights from leading government and industry leaders on the global investment climate in Vietnam\, Vietnam's investment prospects in the recovery phase\, rethinking the supply chain for resiliency\, and best practices in maintaining business continuity with geo-diversification.\n\n\n\nSpeakers:\n\n	Ambassador Michael Michalak - Senior Vice President and Regional Managing Director of the US-ASEAN Business Council\n	Director General Do Nhat Hoang - The Foreign Investment Agency\, Ministry of Planning and Investment\n	Dr. Truong Gia Binh - Chairman of Vietnam Software Association (VINASA)\, Founder & Chairman of FPT Corporation\n	Mr. John Terwilliger - Vice President\, Client Engineering Excellence and Operations\, Client Solutions Group for Dell\n\nFor more details (agenda\, speaker bios) and to RSVP\, please visit the event website by clicking here. This event will be hosted on WebEx and is free of charge but registration is required to join - when registering\, please indicate "USABC" in the source text box on the form.
X-ALT-DESC;FMTTYPE=text/html:<span style="font-size:12.0pt\;">On July 15\, the Council will partner with&nbsp\;FPT Corporation to co-host a webinar - &quot\;<u>COVID-19 Impacts: Diversification for a Resilient Supply Chain 2020</u>&quot\; to discuss the pandemic&#39\;s impact on the global supply chain and how geo-diversification can create sustainability for a circular economy future. The webinar will provide insights from leading government and industry leaders on the global investment climate in Vietnam\, Vietnam&#39\;s investment prospects in the recovery phase\, rethinking the supply chain for resiliency\, and best practices in maintaining business continuity with geo-diversification.<br />\n<br />\n<strong><span style="font-family:calibri\,sans-serif\;">Speakers</span></strong>:</span>\n<ul>\n	<li><strong><span style="font-family:calibri\,sans-serif\;"><span style="font-size:12.0pt\;">Ambassador Michael Michalak</span></span></strong><span style="font-size:12.0pt\;"> - Senior Vice President and Regional Managing Director of the US-ASEAN Business Council</span></li>\n	<li><strong><span style="font-family:calibri\,sans-serif\;"><span style="font-size:12.0pt\;">Director General Do Nhat Hoang </span></span></strong><span style="font-size:12.0pt\;">- The Foreign Investment Agency\, Ministry of Planning and Investment</span></li>\n	<li><strong><span style="font-family:calibri\,sans-serif\;"><span style="font-size:12.0pt\;">Dr. Truong Gia Binh</span></span></strong><span style="font-size:12.0pt\;"> - Chairman of Vietnam Software Association (VINASA)\, Founder &amp\; Chairman of FPT Corporation</span></li>\n	<li><strong><span style="font-family:calibri\,sans-serif\;"><span style="font-size:12.0pt\;">Mr. John Terwilliger</span></span></strong><span style="font-size:12.0pt\;"> - Vice President\, Client Engineering Excellence and Operations\, Client Solutions Group for Dell</span></li>\n</ul>\n<span style="font-size:12.0pt\;">For more details (agenda\, speaker bios) and to RSVP\, please visit the event website by <strong><span style="font-family:calibri\,sans-serif\;"><a href="https://nam02.safelinks.protection.outlook.com/?url=https%3A%2F%2Fprotect-us.mimecast.com%2Fs%2FghggC68Mr3f7mMJupviMQ%2F&amp\;data=01%7C01%7Cslessing%40usasean.org%7C1416c06345e340b37c7b08d81d37afe8%7Cf9fed966bd48450ab6923e74c84151ed%7C0&amp\;sdata=UOG8pYtG97V8iPqjAfHgHSYxhbfhD%2FxUogMAsWXROjQ%3D&amp\;reserved=0">clicking here</a></span></strong>. <u>This event will be hosted on WebEx and is free of charge but registration is required to join - when registering\, please indicate &quot\;</u><strong><span style="color:red\;"><span style="font-family:calibri\,sans-serif\;">USABC</span></span></strong><u>&quot\; in the source text box on the form.</u></span>
LOCATION:Click here to Register (Please note "USABC" in source text box on registration form)
UID:e.9078.8235
SEQUENCE:3
DTSTAMP:20260420T123816Z
URL:http://memberzone.usasean.org/events/details/partner-event-diversification-for-a-resilient-supply-chain-2020-8235
END:VEVENT

END:VCALENDAR
