BEGIN:VCALENDAR
VERSION:2.0
PRODID:-//ChamberMaster//Event Calendar 2.0//EN
METHOD:PUBLISH
X-PUBLISHED-TTL:P3D
REFRESH-INTERVAL:P3D
CALSCALE:GREGORIAN
BEGIN:VEVENT
DTSTART:20141126T203000Z
DTEND:20141126T230000Z
X-MICROSOFT-CDO-ALLDAYEVENT:FALSE
SUMMARY:Nikkei Asian Review Forum in Bangkok
DESCRIPTION:Southeast Asia is a region on a roll. Trade and investment are expanding\, the middle class is rising and social infrastructure is sprouting up. Regional integration is set to reach a new level by the end of 2015\, with the establishment of ASEAN Economic Community ( AEC ). How can companies capitalize on all of this\, and how can Thailand and other economies reach their full potential\, overcoming some challenges? \n\n\n\nNikkei Asian Review Forum will bring together business luminaries and seek answers to these pressing questions.
X-ALT-DESC;FMTTYPE=text/html:Southeast Asia is a region on a roll. Trade and investment are expanding\, the middle class is rising and social infrastructure is sprouting up. Regional integration is set to reach a new level by the end of 2015\, with the establishment of ASEAN Economic Community ( AEC ). How can companies capitalize on all of this\, and how can Thailand and other economies reach their full potential\, overcoming some challenges?&nbsp\;<br />\n<br />\nNikkei Asian Review Forum will bring together business luminaries and seek answers to these pressing questions.&nbsp\;
LOCATION:The Okura Prestige Bangkok (Grand Ballroom) Bangkok\, Thailand
UID:e.9078.1298
SEQUENCE:3
DTSTAMP:20260420T020714Z
URL:http://memberzone.usasean.org/events/details/nikkei-asian-review-forum-in-bangkok-11-26-2014-1298
END:VEVENT

END:VCALENDAR
