BEGIN:VCALENDAR
VERSION:2.0
PRODID:-//ChamberMaster//Event Calendar 2.0//EN
METHOD:PUBLISH
X-PUBLISHED-TTL:P3D
REFRESH-INTERVAL:P3D
CALSCALE:GREGORIAN
BEGIN:VEVENT
DTSTART:20150313T073000Z
DTEND:20150313T083000Z
X-MICROSOFT-CDO-ALLDAYEVENT:FALSE
SUMMARY:National Center for APEC Briefing (Singapore)
DESCRIPTION:Please join us for a briefing in Singapore for U.S. companies\, in which National Center for APEC (NCAPEC) President Monica Whaley will update members on 2015 APEC priority issues and plans.
X-ALT-DESC;FMTTYPE=text/html:Please join us for a briefing in Singapore for U.S. companies\, in which National Center for&nbsp\;APEC (NCAPEC) President Monica Whaley will update members on 2015 APEC&nbsp\;priority issues and plans.
LOCATION:
UID:e.9078.1499
SEQUENCE:3
DTSTAMP:20260419T185841Z
URL:http://memberzone.usasean.org/events/details/national-center-for-apec-briefing-singapore-03-13-2015-1499
END:VEVENT

END:VCALENDAR
