BEGIN:VCALENDAR
VERSION:2.0
PRODID:-//ChamberMaster//Event Calendar 2.0//EN
METHOD:PUBLISH
X-PUBLISHED-TTL:P3D
REFRESH-INTERVAL:P3D
CALSCALE:GREGORIAN
BEGIN:VEVENT
DTSTART:20210318T120000Z
DTEND:20210318T130000Z
X-MICROSOFT-CDO-ALLDAYEVENT:FALSE
SUMMARY:Myanmar Sanctions Roundtable with Peter Kucik
DESCRIPTION:
X-ALT-DESC;FMTTYPE=text/html:
LOCATION:Zoom Meeting (Call-in details will be distributed upon registration)
UID:e.9078.8426
SEQUENCE:3
DTSTAMP:20260420T000703Z
URL:http://memberzone.usasean.org/events/details/myanmar-sanctions-roundtable-with-peter-kucik-8426
END:VEVENT

END:VCALENDAR
