BEGIN:VCALENDAR
VERSION:2.0
PRODID:-//ChamberMaster//Event Calendar 2.0//EN
METHOD:PUBLISH
X-PUBLISHED-TTL:P3D
REFRESH-INTERVAL:P3D
CALSCALE:GREGORIAN
BEGIN:VEVENT
DTSTART;VALUE=DATE:20140916
DTEND;VALUE=DATE:20140918
TRANSP:TRANSPARENT
X-MICROSOFT-CDO-ALLDAYEVENT:TRUE
SUMMARY:Myanmar Global Investment Forum
DESCRIPTION:Join us again this September in Myanmar's capital\, Nay Pyi Taw\, to meet with over 800\n\ninternational and local business leaders\, policymakers\, financiers\, and economists\, who will share their outlook as the 'Golden Land' continues its dramatic re- emergence into the international community.\n\n\n\nRecent developments such as the easing of economic sanctions\, a liberalising financial sector\, and strong activity in agriculture and trade\, have contributed to raising Myanmar's international pro file as an investment destination.\n\n\n\n\n\nSome key topics will include:\n\n\n\n  Myanmar's Year in ASEAN\n\n  Banking and Financial Reform\n\n  Infrastructure and Power\n\n  Special Economic Zones (SEZs)\n\n  Real Estate and Urban Planning\n\n  Agribusiness and Rural Development\n\n  Energy Development
X-ALT-DESC;FMTTYPE=text/html:<br />\nJoin us again this September in Myanmar&rsquo\;s capital\, Nay Pyi Taw\, to meet with over 800<br />\ninternational and local business leaders\, policymakers\, financiers\, and economists\, who will share their outlook as the &lsquo\;Golden Land&rsquo\; continues its dramatic re- emergence into the international community.<br />\n<br />\nRecent developments such as the easing of economic sanctions\, a liberalising financial sector\, and strong activity in agriculture and trade\, have contributed to raising Myanmar&rsquo\;s international pro&not\;file as an investment destination.<br />\n<br />\n<br />\nSome key topics will include:<br />\n<br />\n&bull\; Myanmar&rsquo\;s Year in ASEAN<br />\n&bull\; Banking and Financial Reform<br />\n&bull\; Infrastructure and Power<br />\n&bull\; Special Economic Zones (SEZs)<br />\n&bull\; Real Estate and Urban Planning<br />\n&bull\; Agribusiness and Rural Development<br />\n&bull\; Energy Development
LOCATION:MICC-2\, Nay Pyi Taw\, Myanmar
UID:e.9078.1216
SEQUENCE:3
DTSTAMP:20260420T052622Z
URL:http://memberzone.usasean.org/events/details/myanmar-global-investment-forum-09-16-2014-1216
END:VEVENT

END:VCALENDAR
