BEGIN:VCALENDAR
VERSION:2.0
PRODID:-//ChamberMaster//Event Calendar 2.0//EN
METHOD:PUBLISH
X-PUBLISHED-TTL:P3D
REFRESH-INTERVAL:P3D
CALSCALE:GREGORIAN
BEGIN:VEVENT
DTSTART;VALUE=DATE:20130213
DTEND;VALUE=DATE:20130214
TRANSP:TRANSPARENT
X-MICROSOFT-CDO-ALLDAYEVENT:TRUE
SUMMARY:Myanmar Energy and Mining Briefing for Stephen Gardner\, U.S. Dept of Commerce Commercial Law Development Program
DESCRIPTION:Briefing on Myanmar's energy and mining policy environment for the Department of Commerce's Commercial Law Development Program ahead of their trip to Myanmar.
X-ALT-DESC;FMTTYPE=text/html:Briefing on Myanmar&#39\;s energy and mining policy environment for the Department of Commerce&#39\;s Commercial Law Development Program ahead of their trip to Myanmar.&nbsp\;
LOCATION:US-ASEAN Business Council\, 1101 17th St. NW Suite 411
UID:e.9078.700
SEQUENCE:3
DTSTAMP:20260422T094254Z
URL:http://memberzone.usasean.org/events/details/myanmar-energy-and-mining-briefing-for-stephen-gardner-u-s-dept-of-commerce-commercial-law-development-program-02-13-2013-700
END:VEVENT

END:VCALENDAR
