BEGIN:VCALENDAR
VERSION:2.0
PRODID:-//ChamberMaster//Event Calendar 2.0//EN
METHOD:PUBLISH
X-PUBLISHED-TTL:P3D
REFRESH-INTERVAL:P3D
CALSCALE:GREGORIAN
BEGIN:VEVENT
DTSTART;VALUE=DATE:20130923
DTEND;VALUE=DATE:20130924
TRANSP:TRANSPARENT
X-MICROSOFT-CDO-ALLDAYEVENT:TRUE
SUMMARY:Myanmar Conference at SAIS
DESCRIPTION:The conference will focus on the dynamics behind\, and the likely effects of\, the recent\, broad socio-political and economic reformation in Myanmar on the peoples of that country\, the state's international relations\, and governance.
X-ALT-DESC;FMTTYPE=text/html:<span style="color: rgb(102\, 102\, 102)\; font-family: arial\, helvetica\, sans-serif\; font-size: small\; font-style: normal\; font-variant: normal\; font-weight: normal\; letter-spacing: normal\; line-height: normal\; orphans: auto\; text-align: center\; text-indent: 0px\; text-transform: none\; white-space: normal\; widows: auto\; word-spacing: 0px\; -webkit-text-stroke-width: 0px\; background-color: rgb(255\, 255\, 255)\; display: inline !important\; float: none\;">The conference will focus on the dynamics behind\, and the likely effects of\, the recent\, broad socio-political and economic reformation in Myanmar on the peoples of that country\, the state&rsquo\;s international relations\, and governance.</span>
LOCATION:Monday\, September 23\, 2013 8:30 AM 5:30 PM
UID:e.9078.923
SEQUENCE:3
DTSTAMP:20260421T173455Z
URL:http://memberzone.usasean.org/events/details/myanmar-conference-at-sais-09-23-2013-923
END:VEVENT

END:VCALENDAR
