BEGIN:VCALENDAR
VERSION:2.0
PRODID:-//ChamberMaster//Event Calendar 2.0//EN
METHOD:PUBLISH
X-PUBLISHED-TTL:P3D
REFRESH-INTERVAL:P3D
CALSCALE:GREGORIAN
BEGIN:VEVENT
DTSTART:20210527T023000Z
DTEND:20210527T033000Z
X-MICROSOFT-CDO-ALLDAYEVENT:FALSE
SUMMARY:Monthly Meeting of the COVID-19 Economic Recovery Task Force
DESCRIPTION:Monthly Meeting of the COVID-19 Economic Recovery Task Force (May)
X-ALT-DESC;FMTTYPE=text/html:Monthly Meeting of the COVID-19 Economic Recovery Task Force (May)<br />\n&nbsp\;
LOCATION:Zoom details provided to registered participants
UID:e.9078.8468
SEQUENCE:3
DTSTAMP:20260419T224146Z
URL:http://memberzone.usasean.org/events/details/monthly-meeting-of-the-covid-19-economic-recovery-task-force-8468
END:VEVENT

END:VCALENDAR
