BEGIN:VCALENDAR
VERSION:2.0
PRODID:-//ChamberMaster//Event Calendar 2.0//EN
METHOD:PUBLISH
X-PUBLISHED-TTL:P3D
REFRESH-INTERVAL:P3D
CALSCALE:GREGORIAN
BEGIN:VEVENT
DTSTART:20210330T010000Z
DTEND:20210330T023000Z
X-MICROSOFT-CDO-ALLDAYEVENT:FALSE
SUMMARY:Monthly ICT Committee Meeting (March 2021)
DESCRIPTION:The Council would like to invite members to our upcoming ICT Committee call. Please note this is dial-in only.\n\n\n\nPlease contact Heidi Mah (hmah@usasean.org) or Ryan DelGaudio (rdelgaudio@usasean.org) with any questions.
X-ALT-DESC;FMTTYPE=text/html:The Council would like to invite members to our upcoming ICT Committee call. Please note this is dial-in only.<br />\n<br />\nPlease contact Heidi Mah (hmah@usasean.org) or Ryan DelGaudio (rdelgaudio@usasean.org) with any questions.&nbsp\;
LOCATION:Dial-in
UID:e.9078.8433
SEQUENCE:3
DTSTAMP:20260420T000957Z
URL:http://memberzone.usasean.org/events/details/monthly-ict-committee-meeting-march-2021-8433
END:VEVENT

END:VCALENDAR
