BEGIN:VCALENDAR
VERSION:2.0
PRODID:-//ChamberMaster//Event Calendar 2.0//EN
METHOD:PUBLISH
X-PUBLISHED-TTL:P3D
REFRESH-INTERVAL:P3D
CALSCALE:GREGORIAN
BEGIN:VEVENT
DTSTART:20210602T020000Z
DTEND:20210602T033000Z
X-MICROSOFT-CDO-ALLDAYEVENT:FALSE
SUMMARY:Monthly ICT Committee Meeting (June 2021)
DESCRIPTION:June ICT Committee Meeting
X-ALT-DESC;FMTTYPE=text/html:June ICT Committee Meeting
LOCATION:Online
UID:e.9078.8476
SEQUENCE:3
DTSTAMP:20260419T192231Z
URL:http://memberzone.usasean.org/events/details/monthly-ict-committee-meeting-june-2021-8476
END:VEVENT

END:VCALENDAR
