BEGIN:VCALENDAR
VERSION:2.0
PRODID:-//ChamberMaster//Event Calendar 2.0//EN
METHOD:PUBLISH
X-PUBLISHED-TTL:P3D
REFRESH-INTERVAL:P3D
CALSCALE:GREGORIAN
BEGIN:VEVENT
DTSTART:20210709T010000Z
DTEND:20210709T023000Z
X-MICROSOFT-CDO-ALLDAYEVENT:FALSE
SUMMARY:Monthly ICT Committee Meeting (July 2021)
DESCRIPTION:July ICT Committee Meeting
X-ALT-DESC;FMTTYPE=text/html:<div class="col-sm-7 col-md-8 order-sm-first" style="box-sizing: border-box\; position: relative\; min-height: 1px\; padding-left: 15px\; padding-right: 15px\; float: left\; width: 634.656px\; flex: 0 0 66.6667%\; max-width: 66.6667%\; order: -1\; outline: 0px\; color: rgb(68\, 68\, 68)\; font-family: Arial\, Helvetica\, sans-serif\; font-size: 16px\;">\n<div class="row gz-event-description" itemprop="about" style="box-sizing: border-box\; margin-left: -15px\; margin-right: -15px\; display: flex\; flex-wrap: wrap\; outline: 0px\;">\n<div class="col" style="box-sizing: border-box\; position: relative\; width: 634.656px\; min-height: 1px\; padding-right: 15px\; padding-left: 15px\; flex-basis: 0px\; flex-grow: 1\; max-width: 100%\; outline: 0px\;">\n<p style="box-sizing: border-box\; margin: 0px 0px 1rem\; outline: 0px\;">July&nbsp\;ICT Committee Meeting</p>\n</div>\n</div>\n</div>\n\n<div class="col-sm-5 col-md-4 order-sm-last" style="box-sizing: border-box\; position: relative\; min-height: 1px\; padding-left: 15px\; padding-right: 15px\; float: left\; width: 317.328px\; flex: 0 0 33.3333%\; max-width: 33.3333%\; order: 13\; color: rgb(68\, 68\, 68)\; font-family: Arial\, Helvetica\, sans-serif\; font-size: 16px\;">\n<div class="card gz-eventdetails-card" style="box-sizing: border-box\; position: relative\; display: flex\; flex-direction: column\; min-width: 0px\; overflow-wrap: break-word\; background-clip: border-box\; border: 1px solid rgba(0\, 0\, 0\, 0.125)\; border-radius: 5px\; margin-bottom: 1rem\; padding: 1rem\; -webkit-box-orient: vertical\; -webkit-box-direction: normal\; -webkit-box-pack: justify\; justify-content: space-between\;">&nbsp\;</div>\n</div>\n
LOCATION:
UID:e.9078.8506
SEQUENCE:3
DTSTAMP:20260419T174445Z
URL:http://memberzone.usasean.org/events/details/monthly-ict-committee-meeting-july-2021-8506
END:VEVENT

END:VCALENDAR
