BEGIN:VCALENDAR
VERSION:2.0
PRODID:-//ChamberMaster//Event Calendar 2.0//EN
METHOD:PUBLISH
X-PUBLISHED-TTL:P3D
REFRESH-INTERVAL:P3D
CALSCALE:GREGORIAN
BEGIN:VEVENT
DTSTART:20210817T000000Z
DTEND:20210817T013000Z
X-MICROSOFT-CDO-ALLDAYEVENT:FALSE
SUMMARY:Monthly ICT Committee Meeting (August 2021)
DESCRIPTION:Monthly ICT Committee Meeting (August 2021)
X-ALT-DESC;FMTTYPE=text/html:<div class="row gz-event-details-header" style="box-sizing: border-box\; margin-left: -15px\; margin-right: -15px\; display: flex\; flex-wrap: wrap\; outline: 0px\; align-items: center\; -webkit-box-align: center\;">\n<div class="col pl-0" style="box-sizing: border-box\; position: relative\; width: 937px\; min-height: 1px\; padding-right: 15px\; padding-left: 0px !important\; flex-basis: 0px\; flex-grow: 1\; max-width: 100%\; outline: 0px\;">\n<div class="d-flex gz-details-head" style="box-sizing: border-box\; display: flex !important\; outline: 0px\; align-items: center\; -webkit-box-align: center\;">\n<h1 class="gz-pagetitle" itemprop="name" style="box-sizing: border-box\; font-size: 36px\; margin: 0px 15px 0px 0px\; font-family: Arial\, Helvetica\, sans-serif\; line-height: 1.1\; color: rgb(68\, 68\, 68)\; outline: 0px\;"><span style="font-size:16px\;"><span style="font-family:arial\;">Monthly ICT Committee Meeting (August&nbsp\;2021)</span></span></h1>\n</div>\n</div>\n</div>\n\n<div class="row gz-details-links" style="box-sizing: border-box\; margin-left: -15px\; margin-right: -15px\; display: flex\; flex-flow: row wrap\; -webkit-box-orient: horizontal\; -webkit-box-direction: normal\;">\n<div class="col-sm-7 col-md-8 order-sm-first" style="box-sizing: border-box\; position: relative\; min-height: 1px\; padding-left: 15px\; padding-right: 15px\; float: left\; width: 634.656px\; flex: 0 0 66.6667%\; max-width: 66.6667%\; order: -1\;">\n<div class="row gz-event-description" itemprop="about" style="box-sizing: border-box\; margin-left: -15px\; margin-right: -15px\; display: flex\; flex-wrap: wrap\;">\n<div class="col" style="box-sizing: border-box\; position: relative\; width: 634.656px\; min-height: 1px\; padding-right: 15px\; padding-left: 15px\; flex-basis: 0px\; flex-grow: 1\; max-width: 100%\;">\n<p style="box-sizing: border-box\; margin: 0px 0px 1rem\; color: rgb(68\, 68\, 68)\; font-family: Arial\, Helvetica\, sans-serif\; font-size: 16px\;">&nbsp\;</p>\n\n<div class="col-sm-7 col-md-8 order-sm-first" style="box-sizing: border-box\; position: relative\; min-height: 1px\; padding-left: 15px\; padding-right: 15px\; float: left\; width: 634.656px\; flex: 0 0 66.6667%\; max-width: 66.6667%\; order: -1\; color: rgb(68\, 68\, 68)\; font-family: Arial\, Helvetica\, sans-serif\; font-size: 16px\; outline: 0px\;">\n<div class="row gz-event-description" itemprop="about" style="box-sizing: border-box\; margin-left: -15px\; margin-right: -15px\; display: flex\; flex-wrap: wrap\; outline: 0px\;">\n<div class="col" style="box-sizing: border-box\; position: relative\; width: 634.656px\; min-height: 1px\; padding-right: 15px\; padding-left: 15px\; flex-basis: 0px\; flex-grow: 1\; max-width: 100%\; outline: 0px\;">&nbsp\;</div>\n</div>\n</div>\n</div>\n</div>\n</div>\n</div>\n
LOCATION:
UID:e.9078.8544
SEQUENCE:3
DTSTAMP:20260419T174249Z
URL:http://memberzone.usasean.org/events/details/monthly-ict-committee-meeting-august-2021-8544
END:VEVENT

END:VCALENDAR
