BEGIN:VCALENDAR
VERSION:2.0
PRODID:-//ChamberMaster//Event Calendar 2.0//EN
METHOD:PUBLISH
X-PUBLISHED-TTL:P3D
REFRESH-INTERVAL:P3D
CALSCALE:GREGORIAN
BEGIN:VEVENT
DTSTART:20200724T010000Z
DTEND:20200724T023000Z
X-MICROSOFT-CDO-ALLDAYEVENT:FALSE
SUMMARY:Monthly ICT Committee Meeting
DESCRIPTION:The Council would like to invite members to our upcoming ICT Committee call. The call will provide advocacy updates and look to focus on strategy and next steps for 2020. Please note this is dial-in only.\n\n\n\nPlease contact Natalie Tantisirirat (ntantisirirat@usasean.org) with any questions.
X-ALT-DESC;FMTTYPE=text/html:The Council would like to invite members to our upcoming ICT Committee call. The call will provide advocacy updates and look to focus on strategy and next steps for 2020. Please note this is dial-in only.<br />\n<br />\nPlease contact Natalie Tantisirirat (<a href="mailto:ntantisirirat@usasean.org?subject=July%2023%2F24%20ICT%20Committee%20Meeting%20">ntantisirirat@usasean.org</a>) with any questions.&nbsp\;
LOCATION:Dial-in
UID:e.9078.8246
SEQUENCE:3
DTSTAMP:20260420T123859Z
URL:http://memberzone.usasean.org/events/details/monthly-ict-committee-meeting-8246
END:VEVENT

END:VCALENDAR
