BEGIN:VCALENDAR
VERSION:2.0
PRODID:-//ChamberMaster//Event Calendar 2.0//EN
METHOD:PUBLISH
X-PUBLISHED-TTL:P3D
REFRESH-INTERVAL:P3D
CALSCALE:GREGORIAN
BEGIN:VEVENT
DTSTART;VALUE=DATE:20131118
DTEND;VALUE=DATE:20131121
TRANSP:TRANSPARENT
X-MICROSOFT-CDO-ALLDAYEVENT:TRUE
SUMMARY:MIDA Forum on Asia's Emergence: A Malaysian Perspective
DESCRIPTION:The Malaysian Investment Development Authority (MIDA) will be organizing an inaugural event bringing together top entrepreneurs\, decision makers\, investors and policy makers across the globe to a platform to discuss the strategic role of Malaysia in the dynamism of Asia at the Forum on "Asian Era: Malaysian Perspective." Click here for more information.
X-ALT-DESC;FMTTYPE=text/html:<span style="font-family:arial\,sans-serif\;"><span style="font-size:10.0pt\;">The Malaysian Investment Development Authority (MIDA) will be organizing an inaugural event bringing together top entrepreneurs\, decision makers\, investors and policy makers across the globe to a platform to discuss the strategic role of Malaysia in the dynamism of Asia at the Forum on &ldquo\;Asian Era: Malaysian Perspective.</span>&ldquo\; </span>Click <a href="http://midaforum.com/">here </a>for more information.
LOCATION:Kuala Lumpur Convention Center
UID:e.9078.984
SEQUENCE:3
DTSTAMP:20260421T093047Z
URL:http://memberzone.usasean.org/events/details/mida-forum-on-asia-s-emergence-a-malaysian-perspective-11-18-2013-984
END:VEVENT

END:VCALENDAR
