BEGIN:VCALENDAR
VERSION:2.0
PRODID:-//ChamberMaster//Event Calendar 2.0//EN
METHOD:PUBLISH
X-PUBLISHED-TTL:P3D
REFRESH-INTERVAL:P3D
CALSCALE:GREGORIAN
BEGIN:VEVENT
DTSTART:20130117T190000Z
DTEND:20130117T203000Z
X-MICROSOFT-CDO-ALLDAYEVENT:FALSE
SUMMARY:Members Meeting with Evelyn Mariano
DESCRIPTION:Members meeting with Evelyn Mariano
X-ALT-DESC;FMTTYPE=text/html:Members meeting with Evelyn Mariano
LOCATION:Peninsula Manila
UID:e.9078.668
SEQUENCE:3
DTSTAMP:20260422T112852Z
URL:http://memberzone.usasean.org/events/details/members-meeting-with-evelyn-mariano-01-17-2013-668
END:VEVENT

END:VCALENDAR
