BEGIN:VCALENDAR
VERSION:2.0
PRODID:-//ChamberMaster//Event Calendar 2.0//EN
METHOD:PUBLISH
X-PUBLISHED-TTL:P3D
REFRESH-INTERVAL:P3D
CALSCALE:GREGORIAN
BEGIN:VEVENT
DTSTART;VALUE=DATE:20120822
DTEND;VALUE=DATE:20120823
TRANSP:TRANSPARENT
X-MICROSOFT-CDO-ALLDAYEVENT:TRUE
SUMMARY:Members Coffee Discussion with Ambassador Cuisia - Aug 22 2012
DESCRIPTION:
X-ALT-DESC;FMTTYPE=text/html:
LOCATION:
UID:e.9078.473
SEQUENCE:3
DTSTAMP:20260424T221603Z
URL:http://memberzone.usasean.org/events/details/members-coffee-discussion-with-ambassador-cuisia-aug-22-2012-08-22-2012-473
END:VEVENT

END:VCALENDAR
